BEGIN:VCALENDAR
VERSION:2.0
PRODID:-//ChamberMaster//Event Calendar 2.0//EN
METHOD:PUBLISH
X-PUBLISHED-TTL:P3D
REFRESH-INTERVAL:P3D
CALSCALE:GREGORIAN
BEGIN:VEVENT
DTSTART:20190309T150000Z
DTEND:20190309T180000Z
X-MICROSOFT-CDO-ALLDAYEVENT:FALSE
SUMMARY:Pre-Register for Google Apps
DESCRIPTION:Class #5115A-WS19\n\nInstructor:  Jesse Thorstad\n\n\n\nDo you know you don't need to pay for Microsoft Office to be productive\, creating documents\, spreadsheets\, presentations and more? With a free Google account\, you have access to Google Drive\, which provides you free and unlimited word processing\, spreadsheet and presentation documents. Millions of businesses use Google Drive as their productivity suite and you should\, too! These documents are created and stored "in the cloud"\, so they're accessible from any Internet-connected device. Plus\, they're easily shared so others can work on them with you. It's fun and easy! In this 3-hour session\, you'll learn how to create\, store and share all of the Google document types. Before arriving\, please make sure you have a Google account you can access. (If you have a Gmail account and know the password\, you're set!)
X-ALT-DESC;FMTTYPE=text/html:Class #5115A-WS19<br />\nInstructor:&nbsp\; Jesse Thorstad<br />\n<br />\nDo you know you don&#39\;t need to pay for Microsoft Office to be productive\, creating documents\, spreadsheets\, presentations and more? With a free Google account\, you have access to Google Drive\, which provides you free and unlimited word processing\, spreadsheet and presentation documents. Millions of businesses use Google Drive as their productivity suite and you should\, too! These documents are created and stored &quot\;in the cloud&quot\;\, so they&#39\;re accessible from any Internet-connected device. Plus\, they&#39\;re easily shared so others can work on them with you. It&#39\;s fun and easy! In this 3-hour session\, you&#39\;ll learn how to create\, store and share all of the Google document types. Before arriving\, please make sure you have a Google account you can access. (If you have a Gmail account and know the password\, you&#39\;re set!)
LOCATION:Kennedy Secondary School - Media Center\, 601 Randolph Ave.\, Fergus Falls
UID:e.314.52295
SEQUENCE:3
DTSTAMP:20260423T075239Z
URL:https://business.fergusfalls.com/events/details/pre-register-for-google-apps-52295
END:VEVENT

END:VCALENDAR
