BEGIN:VCALENDAR
VERSION:2.0
PRODID:-//ChamberMaster//Event Calendar 2.0//EN
METHOD:PUBLISH
X-PUBLISHED-TTL:P3D
REFRESH-INTERVAL:P3D
CALSCALE:GREGORIAN
BEGIN:VEVENT
DTSTART:20151010T140000Z
DTEND:20151010T200000Z
X-MICROSOFT-CDO-ALLDAYEVENT:FALSE
SUMMARY:Pre-Register for Grief Support Group - Camp Emily
DESCRIPTION:One day for ages 7-18 and their families\; sponsored by Lakeland Hospice. For youth who have experienced the death of someone they loved\, both newly bereaved and those who have been on the path of grief for some time. Participants are encouraged to express their feelings and reactions\, verbally as well as non-verbally\, through the use of art projects and play. No charge. Pre-register by October 1 by calling Bonnie at 218-998-1400 or toll free at 855-532-9300.
X-ALT-DESC;FMTTYPE=text/html:One day for ages 7-18 and their families\; sponsored by Lakeland Hospice. For youth who have experienced the death of someone they loved\, both newly bereaved and those who have been on the path of grief for some time. Participants are encouraged to express their feelings and reactions\, verbally as well as non-verbally\, through the use of art projects and play. No charge. Pre-register by October 1 by calling Bonnie at 218-998-1400 or toll free at 855-532-9300.
LOCATION:Lakeland Hospice Office\, 805 E. Channing Ave.\, Fergus Falls
UID:e.314.24166
SEQUENCE:3
DTSTAMP:20260426T025927Z
URL:https://business.fergusfalls.com/events/details/pre-register-for-grief-support-group-camp-emily-10-10-2015-24166
END:VEVENT

END:VCALENDAR
