BEGIN:VCALENDAR
VERSION:2.0
PRODID:-//ChamberMaster//Event Calendar 2.0//EN
METHOD:PUBLISH
X-PUBLISHED-TTL:P3D
REFRESH-INTERVAL:P3D
CALSCALE:GREGORIAN
BEGIN:VEVENT
DTSTART:20160407T230000Z
DTEND:20160408T000000Z
X-MICROSOFT-CDO-ALLDAYEVENT:FALSE
SUMMARY:Pre-Register for Healthy Herbs
DESCRIPTION:Class #3219-WS16\n\nInstructor: Karen Bush\, RDN LD\n\n\n\nThere are a number of delicious foods you can eat to enhance your health. Use herbs to transform a dish without adding calories or fat. Learn about herbs with the most medicinal properties and how to incorporate them into your meal plan. $5.00 food fee to be paid to instructor.
X-ALT-DESC;FMTTYPE=text/html:Class #3219-WS16<br />\nInstructor: Karen Bush\, RDN LD<br />\n<br />\nThere are a number of delicious foods you can eat to enhance your health. Use herbs to transform a dish without adding calories or fat. Learn about herbs with the most medicinal properties and how to incorporate them into your meal plan. $5.00 food fee to be paid to instructor.
LOCATION:Kennedy Secondary School: Room 1603
UID:e.314.31760
SEQUENCE:3
DTSTAMP:20260425T163035Z
URL:https://business.fergusfalls.com/events/details/pre-register-for-healthy-herbs-04-07-2016-31760
END:VEVENT

END:VCALENDAR
