BEGIN:VCALENDAR
VERSION:2.0
PRODID:-//ChamberMaster//Event Calendar 2.0//EN
METHOD:PUBLISH
X-PUBLISHED-TTL:P3D
REFRESH-INTERVAL:P3D
CALSCALE:GREGORIAN
BEGIN:VEVENT
DTSTART:20151112T213000Z
DTEND:20151112T233000Z
X-MICROSOFT-CDO-ALLDAYEVENT:FALSE
SUMMARY:Pre-Register for Holiday Cards-Snowman (Kids First!)
DESCRIPTION:Instructor:  Barb Smith\n\nClass #4051-F15\n\n\n\nGet an early start for the holiday season by painting Christmas cards to send to family and friends. Sample in Community Education office. Class supplies provided.
X-ALT-DESC;FMTTYPE=text/html:Instructor: &nbsp\;Barb Smith<br />\nClass #4051-F15<br />\n<br />\nGet an early start for the holiday season by painting Christmas cards to send to family and friends. Sample in Community Education office. Class supplies provided.
LOCATION:Roosevelt Education Center: Community Education\, 340 Friberg Avenue
UID:e.314.24460
SEQUENCE:3
DTSTAMP:20260426T030611Z
URL:https://business.fergusfalls.com/events/details/pre-register-for-holiday-cards-snowman-kids-first-11-12-2015-24460
END:VEVENT

END:VCALENDAR
