BEGIN:VCALENDAR
VERSION:2.0
PRODID:-//ChamberMaster//Event Calendar 2.0//EN
METHOD:PUBLISH
X-PUBLISHED-TTL:P3D
REFRESH-INTERVAL:P3D
CALSCALE:GREGORIAN
BEGIN:VEVENT
DTSTART:20151208T003000Z
DTEND:20151208T020000Z
X-MICROSOFT-CDO-ALLDAYEVENT:FALSE
SUMMARY:Pre-Register for Homemade Marshmallows
DESCRIPTION:Instructor:  Diane Ihrke\n\nClass #3209-F15\n\n\n\nSkip the store and make sweet treats at home.  The taste of homemade marshmallows is unbelievably rich compared to the store-bought variety.  And there is the opportunity to flavor or shape them as you desire.  $6.00 food fee.
X-ALT-DESC;FMTTYPE=text/html:Instructor: &nbsp\;Diane Ihrke<br />\nClass #3209-F15<br />\n<br />\nSkip the store and make sweet treats at home. &nbsp\;The taste of homemade marshmallows is unbelievably rich compared to the store-bought variety. &nbsp\;And there is the opportunity to flavor or shape them as you desire. &nbsp\;$6.00 food fee.
LOCATION:Kennedy Secondary School\, Room 1603
UID:e.314.25979
SEQUENCE:3
DTSTAMP:20260426T011307Z
URL:https://business.fergusfalls.com/events/details/pre-register-for-homemade-marshmallows-12-07-2015-25979
END:VEVENT

END:VCALENDAR
