BEGIN:VCALENDAR
VERSION:2.0
PRODID:-//ChamberMaster//Event Calendar 2.0//EN
METHOD:PUBLISH
X-PUBLISHED-TTL:P3D
REFRESH-INTERVAL:P3D
CALSCALE:GREGORIAN
BEGIN:VEVENT
DTSTART:20171023T230000Z
DTEND:20171024T003000Z
X-MICROSOFT-CDO-ALLDAYEVENT:FALSE
SUMMARY:Pre-Register for Homework Help for Parents and Students
DESCRIPTION:Instructor:  D.Mae Ceryes\n\nClass #6601-F17\n\n\n\nIf your child seems to have the needed basic academic skills but getting homework done is a major problem\, this session is for you. Parents and older students (HS or college) alike will benefit from this session. The focus will be on supporting executive function skills and learning basic strategies for planning and completing homework with less headaches and tears. Pre-registration required.
X-ALT-DESC;FMTTYPE=text/html:Instructor: &nbsp\;D.Mae Ceryes<br />\nClass #6601-F17<br />\n<br />\nIf your child seems to have the needed basic academic skills but getting homework done is a major problem\, this session is for you. Parents and older students (HS or college) alike will benefit from this session. The focus will be on supporting executive function skills and learning basic strategies for planning and completing homework with less headaches and tears. Pre-registration required.
LOCATION:Roosevelt Education Center - Community Education\, 340 Friberg Avenue
UID:e.314.41570
SEQUENCE:3
DTSTAMP:20260424T092429Z
URL:https://business.fergusfalls.com/events/details/pre-register-for-homework-help-for-parents-and-students-41570
END:VEVENT

END:VCALENDAR
