BEGIN:VCALENDAR
VERSION:2.0
PRODID:-//ChamberMaster//Event Calendar 2.0//EN
METHOD:PUBLISH
X-PUBLISHED-TTL:P3D
REFRESH-INTERVAL:P3D
CALSCALE:GREGORIAN
BEGIN:VEVENT
DTSTART:20190514T230000Z
DTEND:20190515T010000Z
X-MICROSOFT-CDO-ALLDAYEVENT:FALSE
SUMMARY:Pre-Register for Hors D'Oeuvres
DESCRIPTION:Class #3252-WS19\n\nInstructor:  Sarah Karsnia\n\n\n\nIn this class\, you will make a number of small bites of appetizing food\, usually served before the main meal or at social functions. Fee includes supplies.
X-ALT-DESC;FMTTYPE=text/html:Class #3252-WS19<br />\nInstructor:&nbsp\; Sarah Karsnia<br />\n<br />\nIn this class\, you will make a number of small bites of appetizing food\, usually served before the main meal or at social functions. Fee includes supplies.
LOCATION:Kennedy Secondary School - Room 1603\, 601 Randolph Ave.\, Fergus Falls
UID:e.314.52660
SEQUENCE:3
DTSTAMP:20260423T050338Z
URL:https://business.fergusfalls.com/events/details/pre-register-for-hors-d-oeuvres-52660
END:VEVENT

END:VCALENDAR
