BEGIN:VCALENDAR
VERSION:2.0
PRODID:-//ChamberMaster//Event Calendar 2.0//EN
METHOD:PUBLISH
X-PUBLISHED-TTL:P3D
REFRESH-INTERVAL:P3D
CALSCALE:GREGORIAN
BEGIN:VEVENT
DTSTART:20160223T000000Z
DTEND:20160223T010000Z
X-MICROSOFT-CDO-ALLDAYEVENT:FALSE
SUMMARY:Pre-Register for I-Pads
DESCRIPTION:Class #5113-WS16\n\nInstructor: Shawna Shale\n\n\n\nLearn the basics of what the I-Pad can do. Get an overview of the I-Pad and learn some basic skills of using it (basic hardware\, settings\, using apps\, email\, photos\, maps and more). If you are considering getting an I-Pad or just recently purchased one\, this class may be for you. (An I-Pad will be provided if you cannot bring one to class.) Class Dates: Feb. 22\, 29.
X-ALT-DESC;FMTTYPE=text/html:Class #5113-WS16<br />\nInstructor: Shawna Shale<br />\n<br />\nLearn the basics of what the I-Pad can do. Get an overview of the I-Pad and learn some basic skills of using it (basic hardware\, settings\, using apps\, email\, photos\, maps and more). If you are considering getting an I-Pad or just recently purchased one\, this class may be for you. (An I-Pad will be provided if you cannot bring one to class.) Class Dates: Feb. 22\, 29.
LOCATION:Roosevelt Education Center/Community Education\, 340 Friberg Ave.
UID:e.314.28065
SEQUENCE:3
DTSTAMP:20260425T200700Z
URL:https://business.fergusfalls.com/events/details/pre-register-for-i-pads-02-22-2016-28065
END:VEVENT

END:VCALENDAR
