BEGIN:VCALENDAR
VERSION:2.0
PRODID:-//ChamberMaster//Event Calendar 2.0//EN
METHOD:PUBLISH
X-PUBLISHED-TTL:P3D
REFRESH-INTERVAL:P3D
CALSCALE:GREGORIAN
BEGIN:VEVENT
DTSTART:20160226T000000Z
DTEND:20160226T010000Z
X-MICROSOFT-CDO-ALLDAYEVENT:FALSE
SUMMARY:Pre-Register for Internet and Email Basics
DESCRIPTION:Instructor: Hannah Holt\n\nClass #5105-WS16\n\n\n\nFor those who are eager to learn how to use the worldwide web to access information and stay in touch with friends and family via email\, this class is a must! We will discuss some basic terms\, etiquette\, and how to get connected. You will then learn how to send\, forward\, respond and how to attach photos or documents. Class Dates: February 24\, March 2.
X-ALT-DESC;FMTTYPE=text/html:<p>Instructor: Hannah Holt<br />\nClass #5105-WS16<br />\n<br />\nFor those who are eager to learn how to use the worldwide web to access information and stay in touch with friends and family via email\, this class is a must! We will discuss some basic terms\, etiquette\, and how to get connected. You will then learn how to send\, forward\, respond and how to attach photos or documents. Class&nbsp\;Dates: February 24\, March 2.</p>\n
LOCATION:Roosevelt Education Center: Community Education\, 340 Friberg Avenue
UID:e.314.31114
SEQUENCE:3
DTSTAMP:20260425T195644Z
URL:https://business.fergusfalls.com/events/details/pre-register-for-internet-and-email-basics-02-25-2016-31114
END:VEVENT

END:VCALENDAR
