BEGIN:VCALENDAR
VERSION:2.0
PRODID:-//ChamberMaster//Event Calendar 2.0//EN
METHOD:PUBLISH
X-PUBLISHED-TTL:P3D
REFRESH-INTERVAL:P3D
CALSCALE:GREGORIAN
BEGIN:VEVENT
DTSTART:20190413T150000Z
DTEND:20190413T170000Z
X-MICROSOFT-CDO-ALLDAYEVENT:FALSE
SUMMARY:Pre-Register for Dancing for Birth
DESCRIPTION:Class #6540C-WS19\n\nInstructor:  Jennifer Bieniek\n\n\n\nDancing for Birth is the leading global class for pregnant women and mothers with babies. It's a "trifecta" of birth preparation and postpartum restoration: feel good pre/postnatal fitness\, essential birth wisdom\, and celebration of pregnancy\, birth and mothering. You'll learn movements inspired by Belly dance\, African dance\, Latin dance and Caribbean dance. Babies and toddlers are welcome to attend class\; bring your favorite baby-wearing device to wear your baby.
X-ALT-DESC;FMTTYPE=text/html:Class #6540C-WS19<br />\nInstructor:&nbsp\; Jennifer Bieniek<br />\n<br />\nDancing for Birth is the leading global class for pregnant women and mothers with babies. It&#39\;s a &quot\;trifecta&quot\; of birth preparation and postpartum restoration: feel good pre/postnatal fitness\, essential birth wisdom\, and celebration of pregnancy\, birth and mothering. You&#39\;ll learn movements inspired by Belly dance\, African dance\, Latin dance and Caribbean dance. Babies and toddlers are welcome to attend class\; bring your favorite baby-wearing device to wear your baby.
LOCATION:Kennedy Secondary School - Wrestling Room\, 601 Randolph Ave.\, Fergus Falls
UID:e.314.50427
SEQUENCE:3
DTSTAMP:20260423T062910Z
URL:https://business.fergusfalls.com/events/details/pre-register-for-introduction-to-dancing-for-birth-50427
END:VEVENT

END:VCALENDAR
