BEGIN:VCALENDAR
VERSION:2.0
PRODID:-//ChamberMaster//Event Calendar 2.0//EN
METHOD:PUBLISH
X-PUBLISHED-TTL:P3D
REFRESH-INTERVAL:P3D
CALSCALE:GREGORIAN
BEGIN:VEVENT
DTSTART:20190129T000000Z
DTEND:20190129T030000Z
X-MICROSOFT-CDO-ALLDAYEVENT:FALSE
SUMMARY:Pre-Register for Introduction to Drones
DESCRIPTION:Class #2004-WS19\n\nInstructor:  Seth Simonson\n\n\n\nAre you considering the purchase of a drone or are new to drone technology? Join us for an introduction to drone ownership and what you should know before buying a drone. In this class\, we will cover careers that use drones\; how to get started - safety\, legal issues\; and history of drones.
X-ALT-DESC;FMTTYPE=text/html:Class #2004-WS19<br />\nInstructor:&nbsp\; Seth Simonson<br />\n<br />\nAre you considering the purchase of a drone or are new to drone technology? Join us for an introduction to drone ownership and what you should know before buying a drone. In this class\, we will cover careers that use drones\; how to get started - safety\, legal issues\; and history of drones.
LOCATION:Roosevelt Education Center - Community Education\, 340 Friberg Ave.\, Fergus Falls
UID:e.314.50391
SEQUENCE:3
DTSTAMP:20260423T105211Z
URL:https://business.fergusfalls.com/events/details/pre-register-for-introduction-to-drones-50391
END:VEVENT

END:VCALENDAR
