BEGIN:VCALENDAR
VERSION:2.0
PRODID:-//ChamberMaster//Event Calendar 2.0//EN
METHOD:PUBLISH
X-PUBLISHED-TTL:P3D
REFRESH-INTERVAL:P3D
CALSCALE:GREGORIAN
BEGIN:VEVENT
DTSTART:20170520T140000Z
DTEND:20170520T160000Z
X-MICROSOFT-CDO-ALLDAYEVENT:FALSE
SUMMARY:Pre-Register for Introduction to Geocaching
DESCRIPTION:Class #2019-WS17\n\nInstructor: Val Lundby\n\n\n\nThink of geocaching as electronic "hide and seek". Someone hides a container (cache) in the great outdoors (geo). You are provided the latitude and longitude coordinates and some other hints. Use a device with GPS capabilities to find the container. It's a fun activity for all ages. In this class\, you will get hands-on experience searching for a few geocaches. GPS receivers will be provided\, but feel free to bring your own. Children under 12 must be accompanied by an adult. Class size is limited to 12 people. We will meet at the Central Lakes Trailhead in DeLagoon Park - near tent site 22.
X-ALT-DESC;FMTTYPE=text/html:Class #2019-WS17<br />\nInstructor: Val Lundby<br />\n<br />\nThink of geocaching as electronic &quot\;hide and seek&quot\;. Someone hides a container (cache) in the great outdoors (geo). You are provided the latitude and longitude coordinates and some other hints. Use a device with GPS capabilities to find the container. It&#39\;s a fun activity for all ages. In this class\, you will get hands-on experience searching for a few geocaches. GPS receivers will be provided\, but feel free to bring your own. Children under 12 must be accompanied by an adult. Class size is limited to 12 people. We will meet at the Central Lakes Trailhead in DeLagoon Park - near tent site 22.
LOCATION:Central Lakes Trailhead in DeLagoon Park - near tent site 22\, Fergus Falls
UID:e.314.35861
SEQUENCE:3
DTSTAMP:20260424T174117Z
URL:https://business.fergusfalls.com/events/details/pre-register-for-introduction-to-geocaching-35861
END:VEVENT

END:VCALENDAR
