BEGIN:VCALENDAR
VERSION:2.0
PRODID:-//ChamberMaster//Event Calendar 2.0//EN
METHOD:PUBLISH
X-PUBLISHED-TTL:P3D
REFRESH-INTERVAL:P3D
CALSCALE:GREGORIAN
BEGIN:VEVENT
DTSTART:20160120T233000Z
DTEND:20160121T013000Z
X-MICROSOFT-CDO-ALLDAYEVENT:FALSE
SUMMARY:Pre-Register for Introduction to Verbal and Written Business Communication
DESCRIPTION:Class #3011-WS16\n\nInstructor: Bonnie Jean Straight\, PhD\n\n\n\nIn business\, how you speak and how you write tells the public a lot about your company or organization. This three-session course provides proven ways for you to present a pleasant\, professional image of your organization face to face\, on the telephone\, in emails\, and in formal business letters. You will practice each of these forms of communication. In addition\, you will take with you links to useful Internet sources you can refer to at your desk. There will be hands-on exercises during the class sessions and homework between the sessions so you can apply what you are learning in your own environment. Class Dates: Jan. 20\, 27\, Feb. 3.
X-ALT-DESC;FMTTYPE=text/html:Class #3011-WS16<br />\nInstructor: Bonnie Jean Straight\, PhD<br />\n<br />\nIn business\, how you speak and how you write tells the public a lot about your company or organization. This three-session course provides proven ways for you to present a pleasant\, professional image of your organization face to face\, on the telephone\, in emails\, and in formal business letters. You will practice each of these forms of communication. In addition\, you will take with you links to useful Internet sources you can refer to at your desk. There will be hands-on exercises during the class sessions and homework between the sessions so you can apply what you are learning in your own environment. Class Dates: Jan. 20\, 27\, Feb. 3.
LOCATION:Roosevelt Education Center/Community Education\, 340 Friberg Ave.
UID:e.314.28035
SEQUENCE:3
DTSTAMP:20260425T215348Z
URL:https://business.fergusfalls.com/events/details/pre-register-for-introduction-to-verbal-and-written-business-communication-01-20-2016-28035
END:VEVENT

END:VCALENDAR
