BEGIN:VCALENDAR
VERSION:2.0
PRODID:-//ChamberMaster//Event Calendar 2.0//EN
METHOD:PUBLISH
X-PUBLISHED-TTL:P3D
REFRESH-INTERVAL:P3D
CALSCALE:GREGORIAN
BEGIN:VEVENT
DTSTART:20190927T140000Z
DTEND:20191004T150000Z
X-MICROSOFT-CDO-ALLDAYEVENT:FALSE
SUMMARY:Pre-Register for iPads for Seniors
DESCRIPTION:Class #5113-F19\n\nInstructor:  Jane Geisinger\n\n\n\nLearn the basics of what the iPad can do. Get an overview of the iPad and learn some basic skills in using it (basic hardware\, settings\, using apps\, email\, photos\, maps and more). If you are considering getting an iPad\, or just recently purchased one\, this class may be for you. An iPad will be provided if you cannot bring one to class. Class Dates:  Friday\, Sept. 27 & Oct. 4 - 9:00 a.m. to 10:00 a.m.
X-ALT-DESC;FMTTYPE=text/html:Class #5113-F19<br />\nInstructor:&nbsp\; Jane Geisinger<br />\n<br />\nLearn the basics of what the iPad can do. Get an overview of the iPad and learn some basic skills in using it (basic hardware\, settings\, using apps\, email\, photos\, maps and more). If you are considering getting an iPad\, or just recently purchased one\, this class may be for you. An iPad will be provided if you cannot bring one to class. Class Dates:&nbsp\; Friday\, Sept. 27 &amp\; Oct. 4 - 9:00 a.m. to 10:00 a.m.
LOCATION:Roosevelt Education Center - Community Education\, 340 Friberg Ave.\, Fergus Falls
UID:e.314.24097
SEQUENCE:3
DTSTAMP:20260422T221907Z
URL:https://business.fergusfalls.com/events/details/pre-register-for-ipads-10-07-2015-24097
END:VEVENT

END:VCALENDAR
