BEGIN:VCALENDAR
VERSION:2.0
PRODID:-//ChamberMaster//Event Calendar 2.0//EN
METHOD:PUBLISH
X-PUBLISHED-TTL:P3D
REFRESH-INTERVAL:P3D
CALSCALE:GREGORIAN
BEGIN:VEVENT
DTSTART:20200212T000000Z
DTEND:20200212T013000Z
X-MICROSOFT-CDO-ALLDAYEVENT:FALSE
SUMMARY:Pre-Register for Homemade Pasta
DESCRIPTION:Class #3234-WS20\n\nInstructor:  Scott Meldahl\n\n\n\nLearn to make homemade pasta in just a few easy steps. We will make and taste our pastas with a few different sauces. Supply fee of $10 payable to the instructor on the day of the class.
X-ALT-DESC;FMTTYPE=text/html:Class #3234-WS20<br />\nInstructor:&nbsp\; Scott Meldahl<br />\n<br />\nLearn to make homemade pasta in just a few easy steps. We will make and taste our pastas with a few different sauces. Supply fee of $10 payable to the instructor on the day of the class.
LOCATION:Kennedy Secondary School - Room 1603\, 601 Randolph Ave.\, Fergus Falls\, MN
UID:e.314.41532
SEQUENCE:3
DTSTAMP:20260422T142555Z
URL:https://business.fergusfalls.com/events/details/pre-register-for-let-s-make-some-pasta-41532
END:VEVENT

END:VCALENDAR
