BEGIN:VCALENDAR
VERSION:2.0
PRODID:-//ChamberMaster//Event Calendar 2.0//EN
METHOD:PUBLISH
X-PUBLISHED-TTL:P3D
REFRESH-INTERVAL:P3D
CALSCALE:GREGORIAN
BEGIN:VEVENT
DTSTART:20191024T200000Z
DTEND:20191024T213000Z
X-MICROSOFT-CDO-ALLDAYEVENT:FALSE
SUMMARY:Pre-Register for Life Insurance - The Basics
DESCRIPTION:Class #3022-F19\n\nInstructor:  Nancy Voss\, County Coordinator on Aging\n\n\n\nThere are different types of life insurance and there are special considerations depending on your situation. Attend this free informational class to get an initial understanding of what is available to you\, and the pros and cons of each. This class is for all ages. Questions and discussion are encouraged. Information will be presented by Justin Arneson\, Financial Advisor.
X-ALT-DESC;FMTTYPE=text/html:Class #3022-F19<br />\nInstructor:&nbsp\; Nancy Voss\, County Coordinator on Aging<br />\n<br />\nThere are different types of life insurance and there are special considerations depending on your situation. Attend this free informational class to get an initial understanding of what is available to you\, and the pros and cons of each. This class is for all ages. Questions and discussion are encouraged. Information will be presented by Justin Arneson\, Financial Advisor.
LOCATION:Government Services Center\, Otter Tail Lake Room\, 560 W. Fir Ave.\, Fergus Falls\, MN
UID:e.314.54672
SEQUENCE:3
DTSTAMP:20260422T222204Z
URL:https://business.fergusfalls.com/events/details/pre-register-for-life-insurance-the-basics-54672
END:VEVENT

END:VCALENDAR
