BEGIN:VCALENDAR
VERSION:2.0
PRODID:-//ChamberMaster//Event Calendar 2.0//EN
METHOD:PUBLISH
X-PUBLISHED-TTL:P3D
REFRESH-INTERVAL:P3D
CALSCALE:GREGORIAN
BEGIN:VEVENT
DTSTART:20171215T000000Z
DTEND:20171215T023000Z
X-MICROSOFT-CDO-ALLDAYEVENT:FALSE
SUMMARY:Pre-Register for Mexican Made Easy
DESCRIPTION:Instructor:  Jan Werkau\n\nClass # 3228-F17\n\n\n\nTacos! Enchiladas! Salsa! Even rice and beans! In this class\, personal chef Jan Werkau will share several recipes for putting together a great Mexican meal\, along with tips for make-ahead and freeze versions of some of the recipes. No need to dine out for Mexican food\; you can enjoy several tasty meals at home with the dishes you will learn to make in this class. $10.00 tasting fee payable to instructor to cover cost of food and supplies.
X-ALT-DESC;FMTTYPE=text/html:Instructor:&nbsp\; Jan Werkau<br />\nClass # 3228-F17<br />\n<br />\nTacos! Enchiladas! Salsa! Even rice and beans! In this class\, personal chef Jan Werkau will share several recipes for putting together a great Mexican meal\, along with tips for make-ahead and freeze versions of some of the recipes. No need to dine out for Mexican food\; you can enjoy several tasty meals at home with the dishes you will learn to make in this class. $10.00 tasting fee payable to instructor to cover cost of food and supplies.
LOCATION:Kennedy Secondary School - Room 1603\, 601 Randolph Avenue\, Fergus Falls
UID:e.314.43023
SEQUENCE:3
DTSTAMP:20260424T061307Z
URL:https://business.fergusfalls.com/events/details/pre-register-for-mexican-made-easy-43023
END:VEVENT

END:VCALENDAR
