BEGIN:VCALENDAR
VERSION:2.0
PRODID:-//ChamberMaster//Event Calendar 2.0//EN
METHOD:PUBLISH
X-PUBLISHED-TTL:P3D
REFRESH-INTERVAL:P3D
CALSCALE:GREGORIAN
BEGIN:VEVENT
DTSTART:20191002T230000Z
DTEND:20191003T003000Z
X-MICROSOFT-CDO-ALLDAYEVENT:FALSE
SUMMARY:Pre-Register for Introduction to Microsoft Word
DESCRIPTION:Class #5102-F19\n\nInstructor: Jane Geisinger\n\n\n\nLearn the essential tools needed to create a Word document. Cut\, copy\, paste and move text\; save and recall files\; import images\; and format pages by creating columns and adjusting spacing. Please bring a few photos on a USB drive. If you have a laptop computer\, please bring it to class. Class Dates: Oct. 2 & 9\; Class Times:  6:00 p.m. to 7:30 p.m.
X-ALT-DESC;FMTTYPE=text/html:Class #5102-F19<br />\nInstructor: Jane Geisinger<br />\n<br />\n<span style="background-color:rgb(255\, 255\, 255)\; font-family:arial\,sans\,sans-serif\; font-size:13px">Learn the essential tools needed to create a Word document. Cut\, copy\, paste and move text\; save and recall files\; import images\; and format pages by creating columns and adjusting spacing. Please bring a few photos on a USB drive. If you have a laptop computer\, please bring it to class. Class Dates: Oct. 2 &amp\; 9\; Class Times:&nbsp\; 6:00 p.m. to 7:30 p.m.</span>
LOCATION:Kennedy Secondary School - Room 2804\, 601 Randolph Ave.\, Fergus Falls\, MN
UID:e.314.24089
SEQUENCE:3
DTSTAMP:20260422T221651Z
URL:https://business.fergusfalls.com/events/details/pre-register-for-microsoft-word-01-25-2016-24089
END:VEVENT

END:VCALENDAR
