BEGIN:VCALENDAR
VERSION:2.0
PRODID:-//ChamberMaster//Event Calendar 2.0//EN
METHOD:PUBLISH
X-PUBLISHED-TTL:P3D
REFRESH-INTERVAL:P3D
CALSCALE:GREGORIAN
BEGIN:VEVENT
DTSTART:20170131T000000Z
DTEND:20170207T033000Z
X-MICROSOFT-CDO-ALLDAYEVENT:FALSE
SUMMARY:Pre-Register for Mondo Bags
DESCRIPTION:Instructor: Lynette Jennen\n\nClass #3135-WS17\n\n\n\nDiscover the latest trend in bags! Learn a simple technique to make a large bag using Quiltsmart fusible interfacing. Bag size is approximately a 10" square bottom and 15" tall. Uses 2 1/2" squares or 5" squares. Bring your own sewing machine. A supply list will be available at Community Education. Class Dates: Jan. 30\, Feb. 6.
X-ALT-DESC;FMTTYPE=text/html:Instructor: Lynette Jennen<br />\nClass #3135-WS17<br />\n<br />\nDiscover the latest trend in bags! Learn a simple technique to make a large bag using Quiltsmart fusible interfacing. Bag size is approximately a 10&quot\; square bottom and 15&quot\; tall. Uses 2 1/2&quot\; squares or 5&quot\; squares. Bring your own sewing machine. A supply list will be available at Community Education. Class Dates: Jan. 30\, Feb. 6.
LOCATION:Roosevelt Education Center\, Community Education\, 340 Friberg Avenue
UID:e.314.37547
SEQUENCE:3
DTSTAMP:20260424T225249Z
URL:https://business.fergusfalls.com/events/details/pre-register-for-mondo-bags-37547
END:VEVENT

END:VCALENDAR
