BEGIN:VCALENDAR
VERSION:2.0
PRODID:-//ChamberMaster//Event Calendar 2.0//EN
METHOD:PUBLISH
X-PUBLISHED-TTL:P3D
REFRESH-INTERVAL:P3D
CALSCALE:GREGORIAN
BEGIN:VEVENT
DTSTART:20190601T150000Z
DTEND:20190601T160000Z
X-MICROSOFT-CDO-ALLDAYEVENT:FALSE
SUMMARY:Pre-Register for Father's Day Gifts
DESCRIPTION:Class #3021A-WS19\n\nInstructor:  Cedar Walters\n\n\n\nWhat better way to tell your Dad that you love him than with a handmade gift that is good for the planet? Make your Dad a recycled gift for Father's Day at this fun class for kids ages 5-105! For his gift\, choose from a kayboard key photo frame or a recycled paper coaster set. Make less waste by making a great recycled gift for your Dad! All supplies provided. Children under the age of 12 should be accompanied by a parent or other adult.
X-ALT-DESC;FMTTYPE=text/html:Class #3021A-WS19<br />\nInstructor:&nbsp\; Cedar Walters<br />\n<br />\nWhat better way to tell your Dad that you love him than with a handmade gift that is good for the planet? Make your Dad a recycled gift for Father&#39\;s Day at this fun class for kids ages 5-105! For his gift\, choose from a kayboard key photo frame or a recycled paper coaster set. Make less waste by making a great recycled gift for your Dad! All supplies provided. Children under the age of 12 should be accompanied by a parent or other adult.
LOCATION:OTC Recycling Center\, 1115 N. Tower Rd.\, Fergus Falls
UID:e.314.52685
SEQUENCE:3
DTSTAMP:20260423T032901Z
URL:https://business.fergusfalls.com/events/details/pre-register-for-mother-s-day-gifts-52685
END:VEVENT

END:VCALENDAR
