BEGIN:VCALENDAR
VERSION:2.0
PRODID:-//ChamberMaster//Event Calendar 2.0//EN
METHOD:PUBLISH
X-PUBLISHED-TTL:P3D
REFRESH-INTERVAL:P3D
CALSCALE:GREGORIAN
BEGIN:VEVENT
DTSTART:20170218T150000Z
DTEND:20170218T190000Z
X-MICROSOFT-CDO-ALLDAYEVENT:FALSE
SUMMARY:Pre-Register for Mouse Maze
DESCRIPTION:Instructor: Dave Binkard\, PODS Game Design\n\nClass #6015-WS17\n\n\n\nThis class gives students an introduction to creating a simple game with Game Maker: Studio. This program is primarily used to create two-dimensional games. In this maze game\, you must guide the mouse through the maze to collect all the cheese before the cat catches you! Students will build this game from start to finish\, including programming all the features and designing their own levels! At the end of class\, students will take their game home with them.
X-ALT-DESC;FMTTYPE=text/html:Instructor: Dave Binkard\, PODS Game Design<br />\nClass #6015-WS17<br />\n<br />\nThis class gives students an introduction to creating a simple game with Game Maker: Studio. This program is primarily used to create two-dimensional games. In this maze game\, you must guide the mouse through the maze to collect all the cheese before the cat catches you! Students will build this game from start to finish\, including programming all the features and designing their own levels! At the end of class\, students will take their game home with them.
LOCATION:Roosevelt Education Center\, Community Education\, 340 Friberg Avenue
UID:e.314.37581
SEQUENCE:3
DTSTAMP:20260424T224632Z
URL:https://business.fergusfalls.com/events/details/pre-register-for-mouse-maze-37581
END:VEVENT

END:VCALENDAR
