BEGIN:VCALENDAR
VERSION:2.0
PRODID:-//ChamberMaster//Event Calendar 2.0//EN
METHOD:PUBLISH
X-PUBLISHED-TTL:P3D
REFRESH-INTERVAL:P3D
CALSCALE:GREGORIAN
BEGIN:VEVENT
DTSTART:20190206T173000Z
DTEND:20190206T183000Z
X-MICROSOFT-CDO-ALLDAYEVENT:FALSE
SUMMARY:Pre-Register for New Year\, New Waste
DESCRIPTION:Class #3020-WS19\n\nInstructor:  Cedar Walters\n\n\n\nStart out the new year right by moving toward zero waste! Learn about easy steps you can take right away to shrink your waste and why making less waste makes the planet a better place for everyone! Topics include recycling\, composting food waste\, reducing packaging\, reusable packaging\, reusable products and more. Make and take a sample of DIY dry shampoo with no toxins in reusable packaging!
X-ALT-DESC;FMTTYPE=text/html:Class #3020-WS19<br />\nInstructor:&nbsp\; Cedar Walters<br />\n<br />\nStart out the new year right by moving toward zero waste! Learn about easy steps you can take right away to shrink your waste and why making less waste makes the planet a better place for everyone! Topics include recycling\, composting food waste\, reducing packaging\, reusable packaging\, reusable products and more. Make and take a sample of DIY dry shampoo with no toxins in reusable packaging!
LOCATION:OTC Recycling Center\, 1115 N. Tower Rd.\, Fergus Falls
UID:e.314.52309
SEQUENCE:3
DTSTAMP:20260423T093415Z
URL:https://business.fergusfalls.com/events/details/pre-register-for-new-year-new-waste-52309
END:VEVENT

END:VCALENDAR
