BEGIN:VCALENDAR
VERSION:2.0
PRODID:-//ChamberMaster//Event Calendar 2.0//EN
METHOD:PUBLISH
X-PUBLISHED-TTL:P3D
REFRESH-INTERVAL:P3D
CALSCALE:GREGORIAN
BEGIN:VEVENT
DTSTART:20191003T233000Z
DTEND:20191004T003000Z
X-MICROSOFT-CDO-ALLDAYEVENT:FALSE
SUMMARY:Pre-Register for Nontoxic Home - Best Natural Cleaning Products
DESCRIPTION:Class #3510-F19\n\nInstructor:  Cedar Walters\n\n\n\nLearn about how toxic products in the home can affect your family and what you can do about it! Practice making safe and easy cleaning products and homemade body-care products using bulk ingredients. Participants take home recipes and free samples\, including a free bamboo toothbrush! This fun class is great for all ages and abilities. Although this class is free\, you must register so enough supplies are provided for all attendees.
X-ALT-DESC;FMTTYPE=text/html:Class #3510-F19<br />\nInstructor:&nbsp\; Cedar Walters<br />\n<br />\nLearn about how toxic products in the home can affect your family and what you can do about it! Practice making safe and easy cleaning products and homemade body-care products using bulk ingredients. Participants take home recipes and free samples\, including a free bamboo toothbrush! This fun class is great for all ages and abilities. Although this class is free\, you must register so enough supplies are provided for all attendees.
LOCATION:Otter Tail Co. Recycling Center\, 1115 N. Tower Rd.\, Fergus Falls\, MN
UID:e.314.54687
SEQUENCE:3
DTSTAMP:20260422T204247Z
URL:https://business.fergusfalls.com/events/details/pre-register-for-nontoxic-home-best-natural-cleaning-products-54687
END:VEVENT

END:VCALENDAR
