BEGIN:VCALENDAR
VERSION:2.0
PRODID:-//ChamberMaster//Event Calendar 2.0//EN
METHOD:PUBLISH
X-PUBLISHED-TTL:P3D
REFRESH-INTERVAL:P3D
CALSCALE:GREGORIAN
BEGIN:VEVENT
DTSTART:20180302T003000Z
DTEND:20180302T020000Z
X-MICROSOFT-CDO-ALLDAYEVENT:FALSE
SUMMARY:Pre-Register for Norwegian
DESCRIPTION:Class #3302-WS18\n\nInstructor: Suzanne Halvorson\n\n\n\nThis class is for those who have an interest in the language and its people. Classes will work toward a practical vocabulary while being introduced to Norwegian life and history. Class Dates: Feb. 1\, 8\, 15\, 22\, Mar. 1\, 15\, 22 - 6:30 p.m. to 8:00 p.m.
X-ALT-DESC;FMTTYPE=text/html:Class #3302-WS18<br>\nInstructor: Suzanne Halvorson<br>\n<br>\nThis class is for those who have an interest in the language and its people. Classes will work toward a practical vocabulary while being introduced to Norwegian life and history. Class Dates: Feb. 1\, 8\, 15\, 22\, Mar. 1\, 15\, 22 - 6:30 p.m. to 8:00 p.m.
LOCATION:Kennedy Secondary School - Room 2803\, 601 Randolph Ave.\, Fergus Falls
UID:e.314.43791
SEQUENCE:3
DTSTAMP:20260424T013110Z
URL:https://business.fergusfalls.com/events/details/pre-register-for-norwegian-03-01-2018-43791
END:VEVENT

END:VCALENDAR
