BEGIN:VCALENDAR
VERSION:2.0
PRODID:-//ChamberMaster//Event Calendar 2.0//EN
METHOD:PUBLISH
X-PUBLISHED-TTL:P3D
REFRESH-INTERVAL:P3D
CALSCALE:GREGORIAN
BEGIN:VEVENT
DTSTART:20170925T230000Z
DTEND:20170926T003000Z
X-MICROSOFT-CDO-ALLDAYEVENT:FALSE
SUMMARY:Pre-Register for Organizational Skills for Everyday Life
DESCRIPTION:Class #6602-F17\n\nInstructor:  D.Mae Ceryes\n\n\n\nIf you feel stressed or anxious because your life seems more disorganized than it should be\, this class will get you on your way to feeling better. This session will focus on general strategies to get and stay organized so that your life runs a bit more smoothly\, without shame\, guilt or any other negativity.
X-ALT-DESC;FMTTYPE=text/html:Class #6602-F17<br />\nInstructor: &nbsp\;D.Mae Ceryes<br />\n<br />\nIf you feel stressed or anxious because your life seems more disorganized than it should be\, this class will get you on your way to feeling better. This session will focus on general strategies to get and stay organized so that your life runs a bit more smoothly\, without shame\, guilt or any other negativity.
LOCATION:Roosevelt Education Center - Community Education
UID:e.314.41554
SEQUENCE:3
DTSTAMP:20260424T122034Z
URL:https://business.fergusfalls.com/events/details/pre-register-for-organizational-skills-for-everyday-life-41554
END:VEVENT

END:VCALENDAR
