BEGIN:VCALENDAR
VERSION:2.0
PRODID:-//ChamberMaster//Event Calendar 2.0//EN
METHOD:PUBLISH
X-PUBLISHED-TTL:P3D
REFRESH-INTERVAL:P3D
CALSCALE:GREGORIAN
BEGIN:VEVENT
DTSTART:20151114T150000Z
DTEND:20151115T030000Z
X-MICROSOFT-CDO-ALLDAYEVENT:FALSE
SUMMARY:Pre-Register for Paper Crafting (Scrapbooking or Card Making)
DESCRIPTION:Instructor: Pam Magnuson\n\nClass #4008A-F15\n\n\n\nWhether you are just starting to scrapbook or make cards\, or you're an old pro but want new ideas\, this class is for you! Come enjoy snacks and camaraderie with paper crafters of all levels! Join us for the marathon session or just part of the day. Class fee includes snacks. Students must bring the following items to class: 12" paper trimmer\, scissors\, acid-free adhesive of your choice\, pencil\, 12" scrapbook paper\, photos (optional)\, and your choice of embellishments\, stickers\, etc. Class Date: Saturday\, Nov. 14
X-ALT-DESC;FMTTYPE=text/html:Instructor: Pam Magnuson<br />\nClass #4008A-F15<br />\n<br />\n<span style="font-family: arial\,sans\,sans-serif\; font-size: 100%\;">Whether you are just starting to scrapbook or make cards\, or you&#39\;re an old pro but want new ideas\, this class is for you! Come enjoy snacks and camaraderie with paper crafters of all levels! Join us for the marathon session or just part of the day. Class fee includes snacks. Students must bring the following items to class: 12&quot\; paper trimmer\, scissors\, acid-free adhesive of your choice\, pencil\, 12&quot\; scrapbook paper\, photos (optional)\, and your choice of embellishments\, stickers\, etc. Class Date: Saturday\, Nov. 14</span>
LOCATION:Roosevelt Education Center: Community Education\, 340 Friberg Avenue
UID:e.314.24441
SEQUENCE:3
DTSTAMP:20260426T011553Z
URL:https://business.fergusfalls.com/events/details/pre-register-for-paper-crafting-scrapbooking-or-card-making-11-14-2015-24441
END:VEVENT

END:VCALENDAR
