BEGIN:VCALENDAR
VERSION:2.0
PRODID:-//ChamberMaster//Event Calendar 2.0//EN
METHOD:PUBLISH
X-PUBLISHED-TTL:P3D
REFRESH-INTERVAL:P3D
CALSCALE:GREGORIAN
BEGIN:VEVENT
DTSTART:20190123T000000Z
DTEND:20190123T020000Z
X-MICROSOFT-CDO-ALLDAYEVENT:FALSE
SUMMARY:Pre-Register for Pork & Beef Wellington
DESCRIPTION:Class #3253-WS19\n\nInstructor:  Sarah Karsnia\n\n\n\nLearn how to make this timeless classic dish that would make Julia Child "oh so proud"! Sarah will teach you how to wrap the most tender meats in crisp\, buttery pastry. A sensational main dish entree for any special occasion. Fee includes supplies.
X-ALT-DESC;FMTTYPE=text/html:Class #3253-WS19<br />\nInstructor:&nbsp\; Sarah Karsnia<br />\n<br />\nLearn how to make this timeless classic dish that would make Julia Child &quot\;oh so proud&quot\;! Sarah will teach you how to wrap the most tender meats in crisp\, buttery pastry. A sensational main dish entree for any special occasion. Fee includes supplies.
LOCATION:Kennedy Secondary School - Room 1603\, 601 Randolph Ave.\, Fergus Falls
UID:e.314.52306
SEQUENCE:3
DTSTAMP:20260423T105633Z
URL:https://business.fergusfalls.com/events/details/pre-register-for-pork-beef-wellington-52306
END:VEVENT

END:VCALENDAR
