BEGIN:VCALENDAR
VERSION:2.0
PRODID:-//ChamberMaster//Event Calendar 2.0//EN
METHOD:PUBLISH
X-PUBLISHED-TTL:P3D
REFRESH-INTERVAL:P3D
CALSCALE:GREGORIAN
BEGIN:VEVENT
DTSTART:20170316T230000Z
DTEND:20170317T003000Z
X-MICROSOFT-CDO-ALLDAYEVENT:FALSE
SUMMARY:Pre-Register for Power Point
DESCRIPTION:Class #5104-WS17\n\nInstructor:  Shawna Shale\n\n\n\nThis class will encourage those who wish to show a professional or family gathering presentation of images\, text and video. Bring your computer along to get hands-on experience. Create fun slides that can be saved on a thumbdrive and shown wherever you would like. Enjoy this class and the knowledge that connects other Microsoft products. Class Dates: March 9 and 16.
X-ALT-DESC;FMTTYPE=text/html:Class #5104-WS17<br />\nInstructor: &nbsp\;Shawna Shale<br />\n<br />\nThis class will encourage those who wish to show a professional or family gathering presentation of images\, text and video. Bring your computer along to get hands-on experience. Create fun slides that can be saved on a thumbdrive and shown wherever you would like. Enjoy this class and the knowledge that connects other Microsoft products. Class Dates: March 9 and 16.
LOCATION:Kennedy Secondary School\, Room 2804
UID:e.314.38739
SEQUENCE:3
DTSTAMP:20260424T210041Z
URL:https://business.fergusfalls.com/events/details/pre-register-for-power-point-03-16-2017-38739
END:VEVENT

END:VCALENDAR
