BEGIN:VCALENDAR
VERSION:2.0
PRODID:-//ChamberMaster//Event Calendar 2.0//EN
METHOD:PUBLISH
X-PUBLISHED-TTL:P3D
REFRESH-INTERVAL:P3D
CALSCALE:GREGORIAN
BEGIN:VEVENT
DTSTART:20180510T230000Z
DTEND:20180511T013000Z
X-MICROSOFT-CDO-ALLDAYEVENT:FALSE
SUMMARY:Pre-Register for Ready\, Set\, Grill: Burgers
DESCRIPTION:Class #3243-WS18\n\nInstructor:  Jan Werkau\n\n\n\nTake your burger game to the next level just in time for grilling season. Our popular grilling class from last season digs deeper into the art of the burger by looking at meat options beyond beef\, great sauces\, interesting seasonings\, and the importance of the right bun in your burger-making success story. Weather permitting\, we will grill outside. Bring your own lawn chair. Supply fee of $17 payable to the instructor on the day of class
X-ALT-DESC;FMTTYPE=text/html:Class #3243-WS18<br />\nInstructor:&nbsp\; Jan Werkau<br />\n<br />\nTake your burger game to the next level just in time for grilling season. Our popular grilling class from last season digs deeper into the art of the burger by looking at meat options beyond beef\, great sauces\, interesting seasonings\, and the importance of the right bun in your burger-making success story. Weather permitting\, we will grill outside. Bring your own lawn chair. Supply fee of $17 payable to the instructor on the day of class
LOCATION:Kennedy Secondary School\, Room 1603 - 601 Randolph Ave.\, Fergus Falls
UID:e.314.47648
SEQUENCE:3
DTSTAMP:20260423T235536Z
URL:https://business.fergusfalls.com/events/details/pre-register-for-ready-set-grill-burgers-47648
END:VEVENT

END:VCALENDAR
