BEGIN:VCALENDAR
VERSION:2.0
PRODID:-//ChamberMaster//Event Calendar 2.0//EN
METHOD:PUBLISH
X-PUBLISHED-TTL:P3D
REFRESH-INTERVAL:P3D
CALSCALE:GREGORIAN
BEGIN:VEVENT
DTSTART:20180410T223000Z
DTEND:20180411T000000Z
X-MICROSOFT-CDO-ALLDAYEVENT:FALSE
SUMMARY:Pre-Register for Retirement Income Planning
DESCRIPTION:Class #3003-WS18\n\nInstructor:  Carol Juul\n\n\n\nEvery retirement income plan has to balance three main goals: maximize your ability to enjoy your retirement\, minimize the chance that you will outlive your money\, and manage the financial risk of unwelcome life events\, such as a serious illness\, need for long-term care\, ec. What is your strategy to do this? Join us to learn some ways to help you plan for a fianncially successful retirement.
X-ALT-DESC;FMTTYPE=text/html:Class #3003-WS18<br />\nInstructor: &nbsp\;Carol Juul<br />\n<br />\nEvery retirement income plan has to balance three main goals: maximize your ability to enjoy your retirement\, minimize the chance that you will outlive your money\, and manage the financial risk of unwelcome life events\, such as a serious illness\, need for long-term care\, ec. What is your strategy to do this? Join us to learn some ways to help you plan for a fianncially successful retirement.
LOCATION:Roosevelt Education Center\, Community Education\, 340 Friberg Avenue\, Fergus Falls
UID:e.314.36135
SEQUENCE:3
DTSTAMP:20260423T235156Z
URL:https://business.fergusfalls.com/events/details/pre-register-for-retire-wisely-36135
END:VEVENT

END:VCALENDAR
