BEGIN:VCALENDAR
VERSION:2.0
PRODID:-//ChamberMaster//Event Calendar 2.0//EN
METHOD:PUBLISH
X-PUBLISHED-TTL:P3D
REFRESH-INTERVAL:P3D
CALSCALE:GREGORIAN
BEGIN:VEVENT
DTSTART:20160414T000000Z
DTEND:20160414T013000Z
X-MICROSOFT-CDO-ALLDAYEVENT:FALSE
SUMMARY:Pre-Register for Rough Soldering Necklace
DESCRIPTION:Class #4011-WS16\n\nInstructor: Lexie Rundquist\n\n\n\nLearn the valuable skill of soldering while you make a simple statement piece to wear\; learn how to connect a jump ring to a stone pendant with copper tape and basic soldering skills. This is a beginners level workshop and tools will be shared during class. We will provide chains and many stones to choose from. This class will be taught by Fargo artist Lexie Rundquist of Unglued!
X-ALT-DESC;FMTTYPE=text/html:Class #4011-WS16<br />\nInstructor: Lexie Rundquist<br />\n<br />\nLearn the valuable skill of soldering while you make a simple statement piece to wear\; learn how to connect a jump ring to a stone pendant with copper tape and basic soldering skills. This is a beginners level workshop and tools will be shared during class. We will provide chains and many stones to choose from. This class will be taught by Fargo artist Lexie Rundquist of Unglued!
LOCATION:Vocational Building: Room 106
UID:e.314.31686
SEQUENCE:3
DTSTAMP:20260425T163341Z
URL:https://business.fergusfalls.com/events/details/pre-register-for-rough-soldering-necklace-04-13-2016-31686
END:VEVENT

END:VCALENDAR
