BEGIN:VCALENDAR
VERSION:2.0
PRODID:-//ChamberMaster//Event Calendar 2.0//EN
METHOD:PUBLISH
X-PUBLISHED-TTL:P3D
REFRESH-INTERVAL:P3D
CALSCALE:GREGORIAN
BEGIN:VEVENT
DTSTART:20181128T000000Z
DTEND:20181128T030000Z
X-MICROSOFT-CDO-ALLDAYEVENT:FALSE
SUMMARY:Pre-Register for Sandbakkels
DESCRIPTION:Instructor: Ruth DeMartelaere\n\nClass #3229-F18\n\n\n\nSandbakkels\, a Norwegian sugar cookie\, are a Christmas tradition in many families. In this class\, you will learn how to make this delicate tart using small sandbakkel molds. Bring to class sandbakkel molds if you have them and a container to take your finished product home. $15 food fee paid to instructor.
X-ALT-DESC;FMTTYPE=text/html:Instructor: Ruth DeMartelaere<br />\nClass #3229-F18<br />\n<br />\nSandbakkels\, a Norwegian sugar cookie\, are a Christmas tradition in many families. In this class\, you will learn how to make this delicate tart using small sandbakkel molds. Bring to class sandbakkel molds if you have them and a container to take your finished product home. $15 food fee paid to instructor.
LOCATION:Kennedy Secondary School - Room 1603\, 601 Randolph Ave.\, Fergus Falls
UID:e.314.42735
SEQUENCE:3
DTSTAMP:20260423T133300Z
URL:https://business.fergusfalls.com/events/details/pre-register-for-sandbakkels-42735
END:VEVENT

END:VCALENDAR
