BEGIN:VCALENDAR
VERSION:2.0
PRODID:-//ChamberMaster//Event Calendar 2.0//EN
METHOD:PUBLISH
X-PUBLISHED-TTL:P3D
REFRESH-INTERVAL:P3D
CALSCALE:GREGORIAN
BEGIN:VEVENT
DTSTART:20151026T233000Z
DTEND:20151027T010000Z
X-MICROSOFT-CDO-ALLDAYEVENT:FALSE
SUMMARY:Pre-Register for Scones
DESCRIPTION:Instructor:  Diane Ihrke\n\nClass #3208-F15\n\n\n\nMoist\, tender scones\, sweet or savory\, are perfect any time of the day - from breakfast to late-night snack. You can make them ahead\, freeze and bake them fresh\, or you can give the mix as a gift. $10.00 food fee paid to instructor.
X-ALT-DESC;FMTTYPE=text/html:Instructor: &nbsp\;Diane Ihrke<br />\nClass #3208-F15<br />\n<br />\n<span style="font-family: arial\,sans\,sans-serif\; font-size: 13px\; background-color: rgb(255\, 255\, 255)\;">Moist\, tender scones\, sweet or savory\, are perfect any time of the day - from breakfast to late-night snack. You can make them ahead\, freeze and bake them fresh\, or you can give the mix as a gift. $10.00 food fee paid to instructor.</span>
LOCATION:Kennedy Secondary School: Room 1603
UID:e.314.24135
SEQUENCE:3
DTSTAMP:20260426T043812Z
URL:https://business.fergusfalls.com/events/details/pre-register-for-scones-10-26-2015-24135
END:VEVENT

END:VCALENDAR
