BEGIN:VCALENDAR
VERSION:2.0
PRODID:-//ChamberMaster//Event Calendar 2.0//EN
METHOD:PUBLISH
X-PUBLISHED-TTL:P3D
REFRESH-INTERVAL:P3D
CALSCALE:GREGORIAN
BEGIN:VEVENT
DTSTART:20191030T233000Z
DTEND:20191031T013000Z
X-MICROSOFT-CDO-ALLDAYEVENT:FALSE
SUMMARY:Pre-Register for Sewing Basics
DESCRIPTION:Class #3110-F19\n\nInstructor:  Phyllis Bombardier\n\n\n\nThis class is designed to get you familiar with sewing basics. You will learn pattern layout\, fabric cutting\, essential construction skills and finishing techniques on a project of your choice. Requires no prior knowledge. Class Dates:  Oct. 23\, 30\, Nov. 6 - 6:30 p.m. to 8:30 p.m.
X-ALT-DESC;FMTTYPE=text/html:Class #3110-F19<br />\nInstructor:&nbsp\; Phyllis Bombardier<br />\n<br />\nThis class is designed to get you familiar with sewing basics. You will learn pattern layout\, fabric cutting\, essential construction skills and finishing techniques on a project of your choice. Requires no prior knowledge. Class Dates:&nbsp\; Oct. 23\, 30\, Nov. 6 - 6:30 p.m. to 8:30 p.m.
LOCATION:Roosevelt Education Center - Community Education\, 340 Friberg Ave.\, Fergus Falls\, MN
UID:e.314.54697
SEQUENCE:3
DTSTAMP:20260422T221731Z
URL:https://business.fergusfalls.com/events/details/pre-register-for-sewing-basics-10-30-2019-54697
END:VEVENT

END:VCALENDAR
