BEGIN:VCALENDAR
VERSION:2.0
PRODID:-//ChamberMaster//Event Calendar 2.0//EN
METHOD:PUBLISH
X-PUBLISHED-TTL:P3D
REFRESH-INTERVAL:P3D
CALSCALE:GREGORIAN
BEGIN:VEVENT
DTSTART:20151028T233000Z
DTEND:20151029T010000Z
X-MICROSOFT-CDO-ALLDAYEVENT:FALSE
SUMMARY:Pre-Register for Sign Language
DESCRIPTION:Instructor: Gail Johnson\n\nClass #3305-F15\n\n\n\nLearn the basics of communicating in American Sign Language. A "hands-on" class with practice time. Instructor is a licensed teacher of the deaf and hard of hearing\, and a certified interpreter. Class Dates: Oct. 7\, 14\, 21\, 28\, Nov. 4\, 11\, 18
X-ALT-DESC;FMTTYPE=text/html:Instructor: Gail Johnson<br />\nClass #3305-F15<br />\n<br />\n<span style="font-family: arial\,sans\,sans-serif\; font-size: 13px\; background-color: rgb(255\, 255\, 255)\;">Learn the basics of communicating in American Sign Language. A &quot\;hands-on&quot\; class with practice time. Instructor is a licensed teacher of the deaf and hard of hearing\, and a certified interpreter. Class Dates: Oct. 7\, 14\, 21\, 28\, Nov. 4\, 11\, 18</span>
LOCATION:Roosevelt Education Center: Community Education\, 340 Friberg Ave.\, Fergus Falls
UID:e.314.24153
SEQUENCE:3
DTSTAMP:20260426T043810Z
URL:https://business.fergusfalls.com/events/details/pre-register-for-sign-language-10-28-2015-24153
END:VEVENT

END:VCALENDAR
