BEGIN:VCALENDAR
VERSION:2.0
PRODID:-//ChamberMaster//Event Calendar 2.0//EN
METHOD:PUBLISH
X-PUBLISHED-TTL:P3D
REFRESH-INTERVAL:P3D
CALSCALE:GREGORIAN
BEGIN:VEVENT
DTSTART:20181025T223000Z
DTEND:20181109T010000Z
X-MICROSOFT-CDO-ALLDAYEVENT:FALSE
SUMMARY:Pre-Register for Smartphone Basics
DESCRIPTION:Classs #5117A-F18\n\nInstructor:  Chrystian Ulrich\n\n\n\nAre you confused by your new smartphone or even annoyed with it? Learn the basics of how it works. Learn how to make a phone call\, send a text message and how to look something up on the internet. Find out what a home page is and how to get to it. Get familiar with navigation\, apps and more. This class is for all types of smartphones. Bring your fully charged smartphone to class.
X-ALT-DESC;FMTTYPE=text/html:Classs #5117A-F18<br />\nInstructor:&nbsp\; Chrystian Ulrich<br />\n<br />\nAre you confused by your new smartphone or even annoyed with it? Learn the basics of how it works. Learn how to make a phone call\, send a text message and how to look something up on the internet. Find out what a home page is and how to get to it. Get familiar with navigation\, apps and more. This class is for all types of smartphones. Bring your fully charged smartphone to class.
LOCATION:Roosevelt Education Center - Community Education\, 340 Friberg Ave.\, Fergus Falls
UID:e.314.43658
SEQUENCE:3
DTSTAMP:20260423T133207Z
URL:https://business.fergusfalls.com/events/details/pre-register-for-smartphone-basics-43658
END:VEVENT

END:VCALENDAR
