BEGIN:VCALENDAR
VERSION:2.0
PRODID:-//ChamberMaster//Event Calendar 2.0//EN
METHOD:PUBLISH
X-PUBLISHED-TTL:P3D
REFRESH-INTERVAL:P3D
CALSCALE:GREGORIAN
BEGIN:VEVENT
DTSTART:20171201T000000Z
DTEND:20171201T020000Z
X-MICROSOFT-CDO-ALLDAYEVENT:FALSE
SUMMARY:Pre-Register for Soups
DESCRIPTION:Instructor: Eric Severs\n\nClass #3227-F17\n\n\n\nNothing tastes better on a cold day than a hot bowl of soup. Join Eric to learn how to make tasty homemade wild rice\, minestrone and beer cheese soups\, and enjoy a soup-based meal. $10.00 food fee paid to instructor.
X-ALT-DESC;FMTTYPE=text/html:Instructor: Eric Severs<br />\nClass #3227-F17<br />\n<br />\nNothing tastes better on a cold day than a hot bowl of soup. Join Eric to learn how to make tasty homemade wild rice\, minestrone and beer cheese soups\, and enjoy a soup-based meal. $10.00 food fee paid to instructor.
LOCATION:Kennedy Secondary School - Room 1603\, 601 Randolph Ave.\, Fergus Falls
UID:e.314.24440
SEQUENCE:3
DTSTAMP:20260424T073919Z
URL:https://business.fergusfalls.com/events/details/pre-register-for-soups-on-01-25-2016-24440
END:VEVENT

END:VCALENDAR
