BEGIN:VCALENDAR
VERSION:2.0
PRODID:-//ChamberMaster//Event Calendar 2.0//EN
METHOD:PUBLISH
X-PUBLISHED-TTL:P3D
REFRESH-INTERVAL:P3D
CALSCALE:GREGORIAN
BEGIN:VEVENT
DTSTART:20171023T233000Z
DTEND:20171024T010000Z
X-MICROSOFT-CDO-ALLDAYEVENT:FALSE
SUMMARY:Pre-Register for Spanish
DESCRIPTION:Class #3304-F17\n\nInstructor: Nancy Schuelke\n\n\n\nHave you ever heard a conversation in Spanish and wondered what they were talking about? Are you planning a trip where Spanish is spoken? This course will cover understanding basic language\, culture and practical travel tips. This is a course for beginners who have little or no previous knowledge. Class Dates: Oct. 2\, 9\, 23\, 30\, Nov. 6.
X-ALT-DESC;FMTTYPE=text/html:Class #3304-F17<br />\nInstructor: Nancy Schuelke<br />\n<br />\nHave you ever heard a conversation in Spanish and wondered what they were talking about? Are you planning a trip where Spanish is spoken? This course will cover understanding basic language\, culture and practical travel tips. This is a course for beginners who have little or no previous knowledge. Class Dates: Oct. 2\, 9\, 23\, 30\, Nov. 6.
LOCATION:Kennedy Secondary School - Room 2803
UID:e.314.42719
SEQUENCE:3
DTSTAMP:20260424T092350Z
URL:https://business.fergusfalls.com/events/details/pre-register-for-spanish-10-23-2017-42719
END:VEVENT

END:VCALENDAR
