BEGIN:VCALENDAR
VERSION:2.0
PRODID:-//ChamberMaster//Event Calendar 2.0//EN
METHOD:PUBLISH
X-PUBLISHED-TTL:P3D
REFRESH-INTERVAL:P3D
CALSCALE:GREGORIAN
BEGIN:VEVENT
DTSTART:20180328T220000Z
DTEND:20180329T000000Z
X-MICROSOFT-CDO-ALLDAYEVENT:FALSE
SUMMARY:Pre-Register for Stained Glass
DESCRIPTION:Instructor:  Dave Messenger & Dennis Martz\n\nClass # 4005K-WS18\n\n\n\nClasses meet one night a week for 5 weeks. Choose start date of Monday or Tuesday from 6:30 p.m. to 8:30 p.m. or Wednesday from 5:00 p.m. to 7:00 p.m. Tuition is $60.00\; supplies and tools are extra. Stop at Flamingo Glass one week before first night of class to pick out pattern and glass. Please use the back door of The Flower Mill\, 205 W. Lincoln Ave. - lower level\, Fergus Falls. Class Dates: Wednesdays - Mar. 21\, 28\, Apr. 4\, 11\, 18 - 5:00 p.m. to 7:00 p.m.
X-ALT-DESC;FMTTYPE=text/html:<span style="background-color:rgb(255\, 255\, 255)\; color:rgb(51\, 51\, 51)\; font-family:sans-serif\,arial\,verdana\,trebuchet ms\; font-size:13px">Instructor: &nbsp\;Dave Messenger &amp\; Dennis Martz</span><br />\n<span style="background-color:rgb(255\, 255\, 255)\; color:rgb(51\, 51\, 51)\; font-family:sans-serif\,arial\,verdana\,trebuchet ms\; font-size:13px">Class # 4005K-WS18</span><br />\n<br />\n<span style="background-color:rgb(255\, 255\, 255)\; color:rgb(51\, 51\, 51)\; font-family:sans-serif\,arial\,verdana\,trebuchet ms\; font-size:13px">Classes meet one night a week for 5 weeks. Choose start date of Monday or Tuesday from 6:30 p.m. to 8:30 p.m. or Wednesday from 5:00 p.m. to 7:00 p.m. Tuition is $60.00\; supplies and tools are extra. Stop at Flamingo Glass one week before first night of class to pick out pattern and glass. Please use the back door of The Flower Mill\, 205 W. Lincoln Ave. - lower level\, Fergus Falls. Class Dates: Wednesdays - Mar. 21\, 28\, Apr. 4\, 11\, 18 - 5:00 p.m. to 7:00 p.m.</span>
LOCATION:Flamingo Glass\, 205 W. Lincoln Ave.\, Fergus Falls
UID:e.314.43829
SEQUENCE:3
DTSTAMP:20260424T013224Z
URL:https://business.fergusfalls.com/events/details/pre-register-for-stained-glass-03-28-2018-43829
END:VEVENT

END:VCALENDAR
