BEGIN:VCALENDAR
VERSION:2.0
PRODID:-//ChamberMaster//Event Calendar 2.0//EN
METHOD:PUBLISH
X-PUBLISHED-TTL:P3D
REFRESH-INTERVAL:P3D
CALSCALE:GREGORIAN
BEGIN:VEVENT
DTSTART:20160413T230000Z
DTEND:20160414T000000Z
X-MICROSOFT-CDO-ALLDAYEVENT:FALSE
SUMMARY:Pre-Register for Terrariums
DESCRIPTION:Class #3330-WS16\n\nInstructor: Lexie Rundquist\n\n\n\nCreate little ecosystems out of succulents and jars to get a little greenery going on in your home\, office\, or as a sweet gift. We provide a variety of glassware\, including mason jars and vases\, as well as succulents and add-ons to create your sweet indoor terrarium. This workshop is for teens to adults! This class is taught by Fargo artist Lexie Rundquist of Unglued!
X-ALT-DESC;FMTTYPE=text/html:Class #3330-WS16<br />\nInstructor: Lexie Rundquist<br />\n<br />\nCreate little ecosystems out of succulents and jars to get a little greenery going on in your home\, office\, or as a sweet gift. We provide a variety of glassware\, including mason jars and vases\, as well as succulents and add-ons to create your sweet indoor terrarium. This workshop is for teens to adults! This class is taught by Fargo artist Lexie Rundquist of Unglued!
LOCATION:Vocational Building\, Room 106V
UID:e.314.31769
SEQUENCE:3
DTSTAMP:20260425T163025Z
URL:https://business.fergusfalls.com/events/details/pre-register-for-terrariums-04-13-2016-31769
END:VEVENT

END:VCALENDAR
