BEGIN:VCALENDAR
VERSION:2.0
PRODID:-//ChamberMaster//Event Calendar 2.0//EN
METHOD:PUBLISH
X-PUBLISHED-TTL:P3D
REFRESH-INTERVAL:P3D
CALSCALE:GREGORIAN
BEGIN:VEVENT
DTSTART:20190313T001500Z
DTEND:20190313T011500Z
X-MICROSOFT-CDO-ALLDAYEVENT:FALSE
SUMMARY:Pre-register for Water Exercise
DESCRIPTION:Instructor:  Sue Tungseth\n\nClass #2500A-WS19\n\n\n\nAerobic exercise in the water. Build up your cardiovascular system and tone muscles. Great for young and old - men\, women\, and pregnant women. You do not need to know how to swim. Instructor is Red Cross and CPR certified. Class Dates: March 12\, 19\, 21\, 26\, 28\, April 2\, 4\, 9\, 11 (snow makeup dates: April 16\, 18) - 7:15 p.m. to 8:15 p.m.
X-ALT-DESC;FMTTYPE=text/html:Instructor: &nbsp\;Sue Tungseth<br />\nClass #2500A-WS19<br />\n<br />\nAerobic exercise in the water. Build up your cardiovascular system and tone muscles. Great for young and old - men\, women\, and pregnant women. You do not need to know how to swim. Instructor is Red Cross and CPR certified. Class Dates: March 12\, 19\, 21\, 26\, 28\, April 2\, 4\, 9\, 11 (snow makeup dates: April 16\, 18) - 7:15 p.m. to 8:15 p.m.
LOCATION:Kennedy Secondary School - Pool\, 601 Randolph Ave.\, Fergus Falls
UID:e.314.17697
SEQUENCE:3
DTSTAMP:20260423T075455Z
URL:https://business.fergusfalls.com/events/details/pre-register-for-water-exercise-01-19-2016-17697
END:VEVENT

END:VCALENDAR
