BEGIN:VCALENDAR
VERSION:2.0
PRODID:-//ChamberMaster//Event Calendar 2.0//EN
METHOD:PUBLISH
X-PUBLISHED-TTL:P3D
REFRESH-INTERVAL:P3D
CALSCALE:GREGORIAN
BEGIN:VEVENT
DTSTART:20171215T011500Z
DTEND:20171215T021500Z
X-MICROSOFT-CDO-ALLDAYEVENT:FALSE
SUMMARY:Pre-Register for Water Exercise
DESCRIPTION:Instructor: Sue Tungseth\n\nClass #2500A-F17\n\n\n\nAerobic exercise in the water. Build up your cardiovascular system and tone muscles. Great for young and old\, men\, women and pregnant women. You do not need to know how to swim. Instructor is Red Cross and CPR certified. Class Dates: Tuesdays and Thursdays - Nov. 14\, 16\, 21\, 28\, 30\, Dec. 5\, 7\, 12\, 21\, Jan. 2.
X-ALT-DESC;FMTTYPE=text/html:Instructor: Sue Tungseth<br />\nClass #2500A-F17<br />\n<br />\n<span style="font-family: arial\,sans\,sans-serif\; font-size: 100%\;">Aerobic exercise in the water. Build up your cardiovascular system and tone muscles. Great for young and old\, men\, women and pregnant women. You do not need to know how to swim. Instructor is Red Cross and CPR certified. Class Dates: Tuesdays and Thursdays - Nov. 14\, 16\, 21\, 28\, 30\, Dec. 5\, 7\, 12\, 21\, Jan. 2.</span>
LOCATION:Kennedy Secondary School - Pool\, 601 Randolph Ave.\, Fergus Falls
UID:e.314.42807
SEQUENCE:3
DTSTAMP:20260424T073154Z
URL:https://business.fergusfalls.com/events/details/pre-register-for-water-exercise-12-14-2017-42807
END:VEVENT

END:VCALENDAR
