BEGIN:VCALENDAR
VERSION:2.0
PRODID:-//ChamberMaster//Event Calendar 2.0//EN
METHOD:PUBLISH
X-PUBLISHED-TTL:P3D
REFRESH-INTERVAL:P3D
CALSCALE:GREGORIAN
BEGIN:VEVENT
DTSTART:20170224T000000Z
DTEND:20170224T023000Z
X-MICROSOFT-CDO-ALLDAYEVENT:FALSE
SUMMARY:Pre-Register for Working with Yeast
DESCRIPTION:Instructor: Jan Werkau\n\nClass #3222-WS17\n\n\n\nLearn to work with yeast and discover that it's more forgiving than you think. I will share a relatively simple recipe for sweet rolls that require only one rise\, a dinner roll recipe that sits overnight and is ready for you to shape into something such as delicious garlic knots the next day\, and a favorite all-purpose soft sandwich bread with whole wheat and oats. We'll let our mixer do all the kneading work and I'll provide professional tips on working with yeast in general. Class fee of $15.00\, plus $8.00 supply feed paid to the instructor.
X-ALT-DESC;FMTTYPE=text/html:Instructor: Jan Werkau<br />\nClass #3222-WS17<br />\n<br />\nLearn to work with yeast and discover that it&#39\;s more forgiving than you think. I will share a relatively simple recipe for sweet rolls that require only one rise\, a dinner roll recipe that sits overnight and is ready for you to shape into something such as delicious garlic knots the next day\, and a favorite all-purpose soft sandwich bread with whole wheat and oats. We&#39\;ll let our mixer do all the kneading work and I&#39\;ll provide professional tips on working with yeast in general. Class fee of $15.00\, plus $8.00 supply feed paid to the instructor.
LOCATION:Kennedy Secondary School: Room 1603
UID:e.314.37516
SEQUENCE:3
DTSTAMP:20260424T224802Z
URL:https://business.fergusfalls.com/events/details/pre-register-for-working-with-yeast-37516
END:VEVENT

END:VCALENDAR
