BEGIN:VCALENDAR
VERSION:2.0
PRODID:-//ChamberMaster//Event Calendar 2.0//EN
METHOD:PUBLISH
X-PUBLISHED-TTL:P3D
REFRESH-INTERVAL:P3D
CALSCALE:GREGORIAN
BEGIN:VEVENT
DTSTART:20240210T150000Z
DTEND:20240210T180000Z
X-MICROSOFT-CDO-ALLDAYEVENT:FALSE
SUMMARY:Youth Snowmobile Safety (Ages 11 to 15) (pre-register)
DESCRIPTION:Class #2010-WS24\n\nInstructor:  Hanna Woods\, MN DNR\n\n\n\nAGES 11-15 - Registration form must be completed at the Community Education office. At that time\, you will receive information on how to complete an online course prior to participating in this hands-on class. Class size is limited.
X-ALT-DESC;FMTTYPE=text/html:Class #2010-WS24<br />\nInstructor:&nbsp\; Hanna Woods\, MN DNR<br />\n<br />\nAGES 11-15 - Registration form must be completed at the Community Education office. At that time\, you will receive information on how to complete an online course prior to participating in this hands-on class. Class size is limited.
LOCATION:Roosevelt Education Center - Community Education\, 340 Friberg Avenue\, Fergus Falls
UID:e.314.36318
SEQUENCE:3
DTSTAMP:20260421T113759Z
URL:https://business.fergusfalls.com/events/details/pre-register-for-youth-snowmobile-safety-ages-12-to-15-36318
END:VEVENT

END:VCALENDAR
