BEGIN:VCALENDAR
VERSION:2.0
PRODID:-//ChamberMaster//Event Calendar 2.0//EN
METHOD:PUBLISH
X-PUBLISHED-TTL:P3D
REFRESH-INTERVAL:P3D
CALSCALE:GREGORIAN
BEGIN:VEVENT
DTSTART:20151217T233000Z
DTEND:20151218T013000Z
X-MICROSOFT-CDO-ALLDAYEVENT:FALSE
SUMMARY:Preschool at Trinity on Cavour Christmas Program
DESCRIPTION:Preschoolers from Trinity with perform their Christmas Program with a meal to follow. Everyone Welcome!
X-ALT-DESC;FMTTYPE=text/html:Preschoolers from Trinity with perform their Christmas Program with a meal to follow. Everyone Welcome!
LOCATION:Trinity Lutheran Church
UID:e.314.27958
SEQUENCE:3
DTSTAMP:20260425T232640Z
URL:https://business.fergusfalls.com/events/details/preschool-at-trinity-on-cavour-christmas-program-12-17-2015-27958
END:VEVENT

END:VCALENDAR
