BEGIN:VCALENDAR
VERSION:2.0
PRODID:-//ChamberMaster//Event Calendar 2.0//EN
METHOD:PUBLISH
X-PUBLISHED-TTL:P3D
REFRESH-INTERVAL:P3D
CALSCALE:GREGORIAN
BEGIN:VEVENT
DTSTART:20160317T213000Z
DTEND:20160317T230000Z
X-MICROSOFT-CDO-ALLDAYEVENT:FALSE
SUMMARY:Preschool\, Pre-Kindergarten and Kindergarten Round Up - Morning Son School
DESCRIPTION:Preschool\, Pre-kindergarten & Kindergarten Round Up\n\nMarch 17th 4:30-6pm\n\nMorning Son Christian School
X-ALT-DESC;FMTTYPE=text/html:Preschool\, Pre-kindergarten &amp\; Kindergarten Round Up<br />\nMarch 17th 4:30-6pm<br />\nMorning Son Christian School
LOCATION:morning son Christian School 1319 N. Cleveland Ave Fergus Falls
UID:e.314.31823
SEQUENCE:3
DTSTAMP:20260425T201627Z
URL:https://business.fergusfalls.com/events/details/preschool-pre-kindergarten-and-kindergarten-round-up-morning-son-school-03-17-2016-31823
END:VEVENT

END:VCALENDAR
