BEGIN:VCALENDAR
VERSION:2.0
PRODID:-//ChamberMaster//Event Calendar 2.0//EN
METHOD:PUBLISH
X-PUBLISHED-TTL:P3D
REFRESH-INTERVAL:P3D
CALSCALE:GREGORIAN
BEGIN:VEVENT
DTSTART:20160306T184500Z
DTEND:20160306T204500Z
X-MICROSOFT-CDO-ALLDAYEVENT:FALSE
SUMMARY:Pretty Princess Party & Fairy Tale Ball
DESCRIPTION:Pretty Princess Parties is coming to FERGUS FALLS!\n\n\n\nOur princesses can't wait to sing\, dance\, and play with your little ones! There will be a meet and greet\, DJ\, a dance floor\, photo opportunities\, and so much more!\n\n\n\nALL GUESTS MUST HAVE A TICKET TO ATTEND. Each group of children MUST be accompanied by an adult\, and that adult must be present for the duration of the event. Our characters will be there to entertain\, and will be unable to babysit throughout this event. Each adult and each child must have a ticket or they will be unable to attend. This is for the comfort and safety of our staff\, performers\, and guests.\n\n\n\nTickets: Guests are encouraged to arrive at 12:45pm with the doors opening at 1:00pm. Join E...lsa\, Anna\, and Ariel on the dance floor! There will be a royal entrance\, a sing-a-long session\, dances led by the princesses\, a coloring station\, story time\, and plenty of photo opportunities. This ticket also includes a trip through the "candy bar" and special one on one time with the popular Frozen duo.\n\n\n\nWe will be starting off with three princesses and as ticket demand increases\, we may be adding more. There will be plenty of time spent with each child and many fun things to do over the two hours!\n\n\n\nChild Tickets: $40 each\n\nAdult Tickets: $30 each\n\n\n\nCall 218-739-2211 to purchase tickets.\n\n\n\nTickets are transferable\, but non-refundable.
X-ALT-DESC;FMTTYPE=text/html:<div class="text_exposed_root text_exposed" id="id_56afbf3aaef8b3625414567"><span class="fsl">Pretty Princess Parties is coming to FERGUS FALLS!<br />\n<br />\nOur princesses can&#39\;t wait to sing\, dance\, and play with your little ones! There will be a meet and greet\, DJ\, a dance floor\, photo opportunities\, and so much more!<br />\n<br />\nALL GUESTS MUST HAVE A TICKET TO ATTEND. Each group of children MUST be accompanied by an adult\, and that adult must be present for the duration of the event. Our characters will be there to entertain\, and will be unable to babysit throughout this event. Each adult and each child must have a ticket or they will be unable to attend. This is for the comfort and safety of our staff\, performers\, and guests.<br />\n<br />\nTickets: Guests are encouraged to arrive at 12:45pm with the doors opening at 1:00pm. Join E<span class="text_exposed_hide">...</span><span class="text_exposed_show">lsa\, Anna\, and Ariel on the dance floor! There will be a royal entrance\, a sing-a-long session\, dances led by the princesses\, a coloring station\, story time\, and plenty of photo opportunities. This ticket also includes a trip through the &ldquo\;candy bar&rdquo\; and special one on one time with the popular Frozen duo.<br />\n<br />\nWe will be starting off with three princesses and as ticket demand increases\, we may be adding more. There will be plenty of time spent with each child and many fun things to do over the two hours!<br />\n<br />\nChild Tickets: $40 each<br />\nAdult Tickets: $30 each<br />\n<br />\nCall 218-739-2211 to purchase tickets.<br />\n<br />\nTickets are transferable\, but non-refundable.</span></span></div>\n
LOCATION:Best Western & Bigwood Event Center 925 Western Ave\, Fergus Falls\, Minnesota 56537
UID:e.314.31073
SEQUENCE:3
DTSTAMP:20260425T183003Z
URL:https://business.fergusfalls.com/events/details/pretty-princess-party-fairy-tale-ball-03-06-2016-31073
END:VEVENT

END:VCALENDAR
