BEGIN:VCALENDAR
VERSION:2.0
PRODID:-//ChamberMaster//Event Calendar 2.0//EN
METHOD:PUBLISH
X-PUBLISHED-TTL:P3D
REFRESH-INTERVAL:P3D
CALSCALE:GREGORIAN
BEGIN:VEVENT
DTSTART:20180814T120000Z
DTEND:20180815T010000Z
X-MICROSOFT-CDO-ALLDAYEVENT:FALSE
SUMMARY:Primary Election Day
DESCRIPTION:Get out and vote at the Minnesota State Primary Election on Tuesday August 14.\n\n\n\nVoting Ward Locations:\n\nWard 1\n\nFire Hall - 325 E Washington Ave\n\n\n\nWard 2\n\nNational Guard Armory - 421 E Cecil Avenue\n\n\n\nWard 3\n\nMN State Community & Technical College Legacy Hall) - 1414 College Way\n\n\n\nWard 4\n\nHillcrest Gymnasium-610 Hillcrest Drive\n\n\n\nClick here to learn whee your polling place is. https://pollfinder.sos.state.mn.us/\n\n\n\nPolling places are open from 7:00 am -8:00 pm on Election Day
X-ALT-DESC;FMTTYPE=text/html:<span>Get out and vote at the Minnesota State Primary Election on Tuesday August 14.<br />\n<br />\nVoting Ward Locations:<br />\nWard 1<br />\nFire Hall - 325 E Washington Ave<br />\n<br />\nWard 2<br />\nNational Guard Armory - 421 E Cecil Avenue<br />\n<br />\nWard 3<br />\nMN State Community &amp\; Technical College Legacy Hall) - 1414 College Way<br />\n<br />\nWard 4<br />\nHillcrest Gymnasium-610 Hillcrest Drive<br />\n<br />\nClick here to learn whee your polling place is. <a data-lynx-mode="hover" data-lynx-uri="https://l.facebook.com/l.php?u=https%3A%2F%2Fpollfinder.sos.state.mn.us%2F&amp\;h=AT1JK3lgBA7mSwQKxoKtp_gmmTtEyR_GZU6RmnE22Z5crWn-xyVOxlXZZjPkJS21SbSOOrOULzt7yxBMzWUBQzqEGdndg54uGYwccM1xneBzvN9RGvLQCQGunr5jCg0C" href="https://pollfinder.sos.state.mn.us/" rel="nofollow" target="_blank"><font color="#0066cc">https://pollfinder.sos.state.mn.us/</font></a><br />\n<br />\nPolling places are open from 7:00 am -8:00 pm on Election Day</span>
LOCATION:City of Fergus Falls
UID:e.314.50310
SEQUENCE:3
DTSTAMP:20260423T180907Z
URL:https://business.fergusfalls.com/events/details/primary-election-day-50310
END:VEVENT

END:VCALENDAR
