BEGIN:VCALENDAR
VERSION:2.0
PRODID:-//ChamberMaster//Event Calendar 2.0//EN
METHOD:PUBLISH
X-PUBLISHED-TTL:P3D
REFRESH-INTERVAL:P3D
CALSCALE:GREGORIAN
BEGIN:VEVENT
DTSTART;VALUE=DATE:20161227
DTEND;VALUE=DATE:20161228
TRANSP:TRANSPARENT
X-MICROSOFT-CDO-ALLDAYEVENT:TRUE
SUMMARY:Prince Tribute on 97.7FM
DESCRIPTION:Tune in for a Tribute to Minnesota's own Prince on Fergus Falls' newest station\, 97.7FM on December 26-27
X-ALT-DESC;FMTTYPE=text/html:Tune in for a Tribute to Minnesota&#39\;s own Prince on Fergus Falls&#39\; newest station\, 97.7FM on December 26-27
LOCATION:97.7FM
UID:e.314.37240
SEQUENCE:3
DTSTAMP:20260425T035204Z
URL:https://business.fergusfalls.com/events/details/prince-tribute-on-97-7fm-12-27-2016-37240
END:VEVENT

END:VCALENDAR
