BEGIN:VCALENDAR
VERSION:2.0
PRODID:-//ChamberMaster//Event Calendar 2.0//EN
METHOD:PUBLISH
X-PUBLISHED-TTL:P3D
REFRESH-INTERVAL:P3D
CALSCALE:GREGORIAN
BEGIN:VEVENT
DTSTART:20200211T230000Z
DTEND:20200212T010000Z
X-MICROSOFT-CDO-ALLDAYEVENT:FALSE
SUMMARY:Productive Alternatives Fundraising Supper
DESCRIPTION:Join us for Pulled Pork Sandwiches\, Baked Beans\, Cole Slaw & Chips. Free will Donation. Proceeds will help provide positive opportunities for adults with disabilities at Productive Alternatives.
X-ALT-DESC;FMTTYPE=text/html:<div class="_63ew" data-testid="event-permalink-details"><span>Join us for Pulled Pork Sandwiches\, Baked Beans\, Cole Slaw &amp\; Chips. Free will Donation. Proceeds will help provide positive opportunities for adults with disabilities at Productive Alternatives. </span></div>\n
LOCATION:Silver Dollar Saloon Elizabeth MN
UID:e.314.56208
SEQUENCE:3
DTSTAMP:20260422T142632Z
URL:https://business.fergusfalls.com/events/details/productive-alternatives-fundraising-supper-56208
END:VEVENT

END:VCALENDAR
